BEGIN:VCALENDAR
VERSION:2.0
PRODID:-//Ahimsa House - ECPv6.15.16//NONSGML v1.0//EN
CALSCALE:GREGORIAN
METHOD:PUBLISH
X-ORIGINAL-URL:https://ahimsahouse.org
X-WR-CALDESC:Events for Ahimsa House
REFRESH-INTERVAL;VALUE=DURATION:PT1H
X-Robots-Tag:noindex
X-PUBLISHED-TTL:PT1H
BEGIN:VTIMEZONE
TZID:America/New_York
BEGIN:DAYLIGHT
TZOFFSETFROM:-0500
TZOFFSETTO:-0400
TZNAME:EDT
DTSTART:20250309T070000
END:DAYLIGHT
BEGIN:STANDARD
TZOFFSETFROM:-0400
TZOFFSETTO:-0500
TZNAME:EST
DTSTART:20251102T060000
END:STANDARD
BEGIN:DAYLIGHT
TZOFFSETFROM:-0500
TZOFFSETTO:-0400
TZNAME:EDT
DTSTART:20260308T070000
END:DAYLIGHT
BEGIN:STANDARD
TZOFFSETFROM:-0400
TZOFFSETTO:-0500
TZNAME:EST
DTSTART:20261101T060000
END:STANDARD
BEGIN:DAYLIGHT
TZOFFSETFROM:-0500
TZOFFSETTO:-0400
TZNAME:EDT
DTSTART:20270314T070000
END:DAYLIGHT
BEGIN:STANDARD
TZOFFSETFROM:-0400
TZOFFSETTO:-0500
TZNAME:EST
DTSTART:20271107T060000
END:STANDARD
END:VTIMEZONE
BEGIN:VEVENT
DTSTART;TZID=America/New_York:20260516T183000
DTEND;TZID=America/New_York:20260516T223000
DTSTAMP:20260424T120327
CREATED:20260219T181350Z
LAST-MODIFIED:20260224T165741Z
UID:48775-1778956200-1778970600@ahimsahouse.org
SUMMARY:2026 Joining Hands & Paws Celebration
DESCRIPTION:Join Ahimsa House at our annual Joining Hands & Paws Celebration\, celebrating and supporting 22 years of helping people and pets reach safety from domestic violence together! Together\, we’ll celebrate another year of assisting human and animal victims of domestic violence in Georgia\, and raise funds to continue this life-saving work. \n[vc_btn title=”Tickets and More Info” color=”mulled-wine” link=”url:http%3A%2F%2Fahimsahouse.org%2Fcelebration”]
URL:https://ahimsahouse.org/event/2026-joining-hands-paws-celebration/
LOCATION:Sinclair\, 5600 Roswell Rd Building G\, Sandy Springs\, 30342\, United States
CATEGORIES:Ahimsa House Events
ATTACH;FMTTYPE=image/png:https://ahimsahouse.org/wp-content/uploads/2026/01/Save-the-Date.png
ORGANIZER;CN="Ahimsa House":MAILTO:info@ahimsahouse.org
END:VEVENT
END:VCALENDAR