BEGIN:VCALENDAR
VERSION:2.0
PRODID:-//Ahimsa House - ECPv6.15.16//NONSGML v1.0//EN
CALSCALE:GREGORIAN
METHOD:PUBLISH
X-WR-CALNAME:Ahimsa House
X-ORIGINAL-URL:https://ahimsahouse.org
X-WR-CALDESC:Events for Ahimsa House
REFRESH-INTERVAL;VALUE=DURATION:PT1H
X-Robots-Tag:noindex
X-PUBLISHED-TTL:PT1H
BEGIN:VTIMEZONE
TZID:America/New_York
BEGIN:DAYLIGHT
TZOFFSETFROM:-0500
TZOFFSETTO:-0400
TZNAME:EDT
DTSTART:20250309T070000
END:DAYLIGHT
BEGIN:STANDARD
TZOFFSETFROM:-0400
TZOFFSETTO:-0500
TZNAME:EST
DTSTART:20251102T060000
END:STANDARD
BEGIN:DAYLIGHT
TZOFFSETFROM:-0500
TZOFFSETTO:-0400
TZNAME:EDT
DTSTART:20260308T070000
END:DAYLIGHT
BEGIN:STANDARD
TZOFFSETFROM:-0400
TZOFFSETTO:-0500
TZNAME:EST
DTSTART:20261101T060000
END:STANDARD
BEGIN:DAYLIGHT
TZOFFSETFROM:-0500
TZOFFSETTO:-0400
TZNAME:EDT
DTSTART:20270314T070000
END:DAYLIGHT
BEGIN:STANDARD
TZOFFSETFROM:-0400
TZOFFSETTO:-0500
TZNAME:EST
DTSTART:20271107T060000
END:STANDARD
END:VTIMEZONE
BEGIN:VEVENT
DTSTART;TZID=America/New_York:20260322T080000
DTEND;TZID=America/New_York:20260322T163000
DTSTAMP:20260424T165204
CREATED:20260219T210457Z
LAST-MODIFIED:20260226T193439Z
UID:48809-1774166400-1774197000@ahimsahouse.org
SUMMARY:Pet Photos with the Easter Bunny
DESCRIPTION:Join Common Companion for a fun-filled day of spring photos at their clinic in Reynoldstown! Bring your furry friend to snap an adorable picture with the Easter Bunny while supporting a great cause. A donation is required to participate\, and all donations benefit Ahimsa House. They’re accepting new or gently used pet supplies\, unopened food & treats\, cleaning/household essentials\, and personal care items (please note: no used bedding). Dogs and cats are welcome! (Contact Common Companion in advance for small animals.) Call the clinic to schedule your photo time\, spots will fill up fast!We can’t wait to see your pets dressed in their spring best! 
URL:https://ahimsahouse.org/event/pet-photos-with-the-easter-bunny/
LOCATION:Common Companion\, 907 Memorial Dr SE Suite 110\, Atlanta\, Georgia\, 30316
CATEGORIES:Community Partner Events
ATTACH;FMTTYPE=image/jpeg:https://ahimsahouse.org/wp-content/uploads/2026/02/common-companion.jpg
END:VEVENT
BEGIN:VEVENT
DTSTART;TZID=America/New_York:20260304T183000
DTEND;TZID=America/New_York:20260304T203000
DTSTAMP:20260424T165204
CREATED:20260219T194617Z
LAST-MODIFIED:20260227T195852Z
UID:48798-1772649000-1772656200@ahimsahouse.org
SUMMARY:Bingo!
DESCRIPTION:Join us at 6:30 on March 4th at dog-friendly Chamblee and Vine for Bingo! Our old colleague\, Justin Maslanka (remember him?) will be hosting and 50% of ticket proceeds will be donated to Ahimsa House! \nGet tickets here!
URL:https://ahimsahouse.org/event/bingo/
LOCATION:Chamblee & Vine Wine Shop and Tasting Room\, 5348 Peachtree Rd\, Chamblee\, GA\, 30341
CATEGORIES:Community Partner Events
ATTACH;FMTTYPE=image/jpeg:https://ahimsahouse.org/wp-content/uploads/2026/02/bingo-boy.jpg
ORGANIZER;CN="Friendly Neighborhood Bingo Boy":MAILTO:friendlyneighborhoodbingoboy@gmail.com
END:VEVENT
END:VCALENDAR